BEGIN:VCALENDAR
VERSION:2.0
PRODID:-//Slovenski regionalno razvojni sklad - ECPv6.15.18//NONSGML v1.0//EN
CALSCALE:GREGORIAN
METHOD:PUBLISH
X-WR-CALNAME:Slovenski regionalno razvojni sklad
X-ORIGINAL-URL:https://www.srrs.si
X-WR-CALDESC:Dogodki za Slovenski regionalno razvojni sklad
REFRESH-INTERVAL;VALUE=DURATION:PT1H
X-Robots-Tag:noindex
X-PUBLISHED-TTL:PT1H
BEGIN:VTIMEZONE
TZID:Europe/Ljubljana
BEGIN:DAYLIGHT
TZOFFSETFROM:+0100
TZOFFSETTO:+0200
TZNAME:CEST
DTSTART:20220327T010000
END:DAYLIGHT
BEGIN:STANDARD
TZOFFSETFROM:+0200
TZOFFSETTO:+0100
TZNAME:CET
DTSTART:20221030T010000
END:STANDARD
BEGIN:DAYLIGHT
TZOFFSETFROM:+0100
TZOFFSETTO:+0200
TZNAME:CEST
DTSTART:20230326T010000
END:DAYLIGHT
BEGIN:STANDARD
TZOFFSETFROM:+0200
TZOFFSETTO:+0100
TZNAME:CET
DTSTART:20231029T010000
END:STANDARD
BEGIN:DAYLIGHT
TZOFFSETFROM:+0100
TZOFFSETTO:+0200
TZNAME:CEST
DTSTART:20240331T010000
END:DAYLIGHT
BEGIN:STANDARD
TZOFFSETFROM:+0200
TZOFFSETTO:+0100
TZNAME:CET
DTSTART:20241027T010000
END:STANDARD
END:VTIMEZONE
BEGIN:VEVENT
DTSTART;TZID=Europe/Ljubljana:20231108T100000
DTEND;TZID=Europe/Ljubljana:20231108T113000
DTSTAMP:20260419T183345
CREATED:20231024T131333Z
LAST-MODIFIED:20231024T131333Z
UID:3806-1699437600-1699443000@www.srrs.si
SUMMARY:Webinar: BIZI LIKVIDNOST: Odpravimo posledice poplav in energetske krize
DESCRIPTION:SRRS vabi na spletni seminar z naslovom “BIZI LIKVIDNOST: Odpravimo posledice poplav in energetske krize”. Na seminarju boste imeli priložnost pridobiti vpogled v finančni produkt BIZI LIKVIDNOST in njegove prednosti. \nVeč o finančnem produktu: \nFinančni produkt BIZI LIKVIDNOST je rezultat sodelovanja Ministrstva za kohezijo in regionalni razvoj (MKRR) ter Slovenskega regionalno razvojnega sklada (SRRS)\, ki je namenjen lažjemu dostopu do virov financiranja za odpravo posledic energetske krize in obnovi proizvodnega potenciala po uničujočih poplavah\, ki so slovensko gospodarstvo prizadele v mesecu avgustu. \nVsebina dogodka: \n\nPredstavitev finančnega produkta BIZI LIKVIDNOST in njegovih prednosti\nVse o postopku oddaje vloge\nPojasnila v povezavi z dokumentacijo\, ki je nujna za oddajo vloge\nPojasnila glede upravičenih stroškov\n\nVabljeni: \n\npotencialni vlagatelj\,\nposlovni svetovalci\,\nvsi\, ki jih zanima finančni produkt BIZI LIKVIDNOST.
URL:https://www.srrs.si/dogodek/webinar-bizi-likvidnost-odpravimo-posledice-poplav-in-energetske-krize/
LOCATION:Spletna predstavitev\, Dom sv. Jožef Plečnikova 29\, Celje\, 3000\, Slovenija
ATTACH;FMTTYPE=image/png:https://www.srrs.si/wp-content/uploads/2023/09/SRRS_novica_2023-1.png
END:VEVENT
END:VCALENDAR