BEGIN:VCALENDAR
VERSION:2.0
PRODID:-//Slovenski regionalno razvojni sklad - ECPv6.15.18//NONSGML v1.0//EN
CALSCALE:GREGORIAN
METHOD:PUBLISH
X-WR-CALNAME:Slovenski regionalno razvojni sklad
X-ORIGINAL-URL:https://www.srrs.si
X-WR-CALDESC:Dogodki za Slovenski regionalno razvojni sklad
REFRESH-INTERVAL;VALUE=DURATION:PT1H
X-Robots-Tag:noindex
X-PUBLISHED-TTL:PT1H
BEGIN:VTIMEZONE
TZID:Europe/Ljubljana
BEGIN:DAYLIGHT
TZOFFSETFROM:+0100
TZOFFSETTO:+0200
TZNAME:CEST
DTSTART:20230326T010000
END:DAYLIGHT
BEGIN:STANDARD
TZOFFSETFROM:+0200
TZOFFSETTO:+0100
TZNAME:CET
DTSTART:20231029T010000
END:STANDARD
BEGIN:DAYLIGHT
TZOFFSETFROM:+0100
TZOFFSETTO:+0200
TZNAME:CEST
DTSTART:20240331T010000
END:DAYLIGHT
BEGIN:STANDARD
TZOFFSETFROM:+0200
TZOFFSETTO:+0100
TZNAME:CET
DTSTART:20241027T010000
END:STANDARD
BEGIN:DAYLIGHT
TZOFFSETFROM:+0100
TZOFFSETTO:+0200
TZNAME:CEST
DTSTART:20250330T010000
END:DAYLIGHT
BEGIN:STANDARD
TZOFFSETFROM:+0200
TZOFFSETTO:+0100
TZNAME:CET
DTSTART:20251026T010000
END:STANDARD
END:VTIMEZONE
BEGIN:VEVENT
DTSTART;TZID=Europe/Ljubljana:20240216T100000
DTEND;TZID=Europe/Ljubljana:20240216T110000
DTSTAMP:20260419T185326
CREATED:20240209T080029Z
LAST-MODIFIED:20240213T123545Z
UID:4072-1708077600-1708081200@www.srrs.si
SUMMARY:Webinar: AGRO FI mladi in AGRO INVEST
DESCRIPTION:SRRS vabi na spletni seminar z naslovom “AGRO FI mladi in AGRO INVEST”. Na seminarju boste imeli priložnost pridobiti vpogled v finančna produkta AGRO FI mladi in AGRO INVEST \nVeč o finančnem produktu: \nSlovenski regionalno razvojni sklad (SRRS) je v petek\, 2. 2. 2024\, objavil Javni razpis za finančni produkt AGRO FI mladi\, s katerim razpisuje sredstva v obliki ugodnega razvojnega posojila s portfeljsko garancijo\, subvencijo obrestne mere in kapitalskim znižanjem in Javni razpis za finančni produkt AGRO INVEST\, ki omogoča možnost investiranja v kmetijsko dejavnost. \n  \nWebinar je namenjen: \n\nkmetijskim svetovalcem oz. svetovalcem KGZS\n\n  \nVsebina dogodka: \n\nPostopek oddaje vloge\nPotrebna dokumentacija\nUpravičeni stroški\nUgodnosti finančnega produkta AGRO FI mladi\nVprašanja in odgovori\n\n  \nPrijava na webinar je obvezna!
URL:https://www.srrs.si/dogodek/webinar-agro-fi-mladi-ugodna-razvojna-posojila/
LOCATION:Spletna predstavitev\, Dom sv. Jožef Plečnikova 29\, Celje\, 3000\, Slovenija
ATTACH;FMTTYPE=image/png:https://www.srrs.si/wp-content/uploads/2023/09/SRRS_novica_2023-1.png
END:VEVENT
END:VCALENDAR