BEGIN:VCALENDAR
VERSION:2.0
PRODID:-//Slovenski regionalno razvojni sklad - ECPv6.15.18//NONSGML v1.0//EN
CALSCALE:GREGORIAN
METHOD:PUBLISH
X-WR-CALNAME:Slovenski regionalno razvojni sklad
X-ORIGINAL-URL:https://www.srrs.si
X-WR-CALDESC:Dogodki za Slovenski regionalno razvojni sklad
REFRESH-INTERVAL;VALUE=DURATION:PT1H
X-Robots-Tag:noindex
X-PUBLISHED-TTL:PT1H
BEGIN:VTIMEZONE
TZID:Europe/Ljubljana
BEGIN:DAYLIGHT
TZOFFSETFROM:+0100
TZOFFSETTO:+0200
TZNAME:CEST
DTSTART:20220327T010000
END:DAYLIGHT
BEGIN:STANDARD
TZOFFSETFROM:+0200
TZOFFSETTO:+0100
TZNAME:CET
DTSTART:20221030T010000
END:STANDARD
BEGIN:DAYLIGHT
TZOFFSETFROM:+0100
TZOFFSETTO:+0200
TZNAME:CEST
DTSTART:20230326T010000
END:DAYLIGHT
BEGIN:STANDARD
TZOFFSETFROM:+0200
TZOFFSETTO:+0100
TZNAME:CET
DTSTART:20231029T010000
END:STANDARD
BEGIN:DAYLIGHT
TZOFFSETFROM:+0100
TZOFFSETTO:+0200
TZNAME:CEST
DTSTART:20240331T010000
END:DAYLIGHT
BEGIN:STANDARD
TZOFFSETFROM:+0200
TZOFFSETTO:+0100
TZNAME:CET
DTSTART:20241027T010000
END:STANDARD
END:VTIMEZONE
BEGIN:VEVENT
DTSTART;TZID=Europe/Ljubljana:20231107T100000
DTEND;TZID=Europe/Ljubljana:20231107T123000
DTSTAMP:20260419T184242
CREATED:20231020T070510Z
LAST-MODIFIED:20231020T073500Z
UID:3750-1699351200-1699360200@www.srrs.si
SUMMARY:Regijski posvet 2023 zadrug Osrednjeslovenske r.
DESCRIPTION:Regijski posvet 2023 za zadruge Kamniško-Zasavske\, Ljubljanske in Gorenjske regije  \nZadružna zveza Slovenije tudi letos že tradicionalno organizira regijske posvete\, kjer se zberejo vodstva in člani upravnih in nadzornih odborov zadrug članic\, predstavniki ministrstva za kmetijstvo\, gozdarstvo in prehrano in drugih pristojnih institucij. Udeleženci regijskih posvetov se bodo seznanili z aktualnimi temami s področja kmetijske politike\, razpisi na področju kmetijstva in gospodarstva ter poslovanjem zadrug članic Zadružne zveze Slovenije v preteklem letu. Poleg tega pa bo predstavljeno tudi delo Zadružne zveze v letošnjem letu in načrti za prihodnost. \nNa regijskih posvetih bo prisoten tudi predstavnik/ predstavnica SRRS\, ki bo predstavil finančne produkte SRRS. \nVabljeni!
URL:https://www.srrs.si/dogodek/regijski-posvet-2023-za-zadruge-osrednjeslovenske-r/
LOCATION:Turistična kmetija pri Marku\, Crngrob 5\, 4209 Žabnica\, Turistična kmetija pri Marku\, Crngrob 5\, Žabnica\, 4209\, Slovenija
ATTACH;FMTTYPE=image/png:https://www.srrs.si/wp-content/uploads/2023/10/39.png
END:VEVENT
END:VCALENDAR