BEGIN:VCALENDAR
VERSION:2.0
PRODID:-//Slovenski regionalno razvojni sklad - ECPv6.15.18//NONSGML v1.0//EN
CALSCALE:GREGORIAN
METHOD:PUBLISH
X-WR-CALNAME:Slovenski regionalno razvojni sklad
X-ORIGINAL-URL:https://www.srrs.si
X-WR-CALDESC:Dogodki za Slovenski regionalno razvojni sklad
REFRESH-INTERVAL;VALUE=DURATION:PT1H
X-Robots-Tag:noindex
X-PUBLISHED-TTL:PT1H
BEGIN:VTIMEZONE
TZID:Europe/Ljubljana
BEGIN:DAYLIGHT
TZOFFSETFROM:+0100
TZOFFSETTO:+0200
TZNAME:CEST
DTSTART:20250330T010000
END:DAYLIGHT
BEGIN:STANDARD
TZOFFSETFROM:+0200
TZOFFSETTO:+0100
TZNAME:CET
DTSTART:20251026T010000
END:STANDARD
BEGIN:DAYLIGHT
TZOFFSETFROM:+0100
TZOFFSETTO:+0200
TZNAME:CEST
DTSTART:20260329T010000
END:DAYLIGHT
BEGIN:STANDARD
TZOFFSETFROM:+0200
TZOFFSETTO:+0100
TZNAME:CET
DTSTART:20261025T010000
END:STANDARD
BEGIN:DAYLIGHT
TZOFFSETFROM:+0100
TZOFFSETTO:+0200
TZNAME:CEST
DTSTART:20270328T010000
END:DAYLIGHT
BEGIN:STANDARD
TZOFFSETFROM:+0200
TZOFFSETTO:+0100
TZNAME:CET
DTSTART:20271031T010000
END:STANDARD
END:VTIMEZONE
BEGIN:VEVENT
DTSTART;TZID=Europe/Ljubljana:20260311T133000
DTEND;TZID=Europe/Ljubljana:20260311T143000
DTSTAMP:20260419T183601
CREATED:20260305T082143Z
LAST-MODIFIED:20260305T112309Z
UID:5577-1773235800-1773239400@www.srrs.si
SUMMARY:Predstavitev javnega poziva za rokodelce
DESCRIPTION:Slovenski regionalno razvojni sklad (SRRS) vas vljudno vabi na “Predstavitev javnega poziva za rokodelce”\, kjer boste izvedeli več o javnem pozivu in oddaji vloge \n  \nPredstavitev je namenjena: \n\nFizičnim osebam\, ki delujejo na področju rokodelstva in ne opravljajo dejavnosti ter imajo stalno prebivališče na območju Republike Slovenije:\n\nrokodelci\,\nupokojenci rokodelci\,\nposamezniki\, ki opravljajo osebno dopolnilno delo\, povezano z rokodelstvom\,\nnosilci dopolnilne dejavnosti na kmetiji\, povezane z rokodelstvom.\n\n\n\n  \nVsebina predstavitve: \n\nPredstavitev javnega poziva NVO Rokodelci – fizične osebe\nPostopek oddaje vloge\nVprašanja in odgovori
URL:https://www.srrs.si/dogodek/predstavitev-javnega-poziva-za-rokodelce-2/
LOCATION:MPIK Slovenj Gradec\, Ozare 19\, Slovenj Gradec\, 2380\, Slovenia
CATEGORIES:Dogodek v živo
ATTACH;FMTTYPE=image/png:https://www.srrs.si/wp-content/uploads/2025/03/Spletka_slika_1200x600.png
END:VEVENT
END:VCALENDAR