BEGIN:VCALENDAR
VERSION:2.0
PRODID:-//Slovenski regionalno razvojni sklad - ECPv6.15.18//NONSGML v1.0//EN
CALSCALE:GREGORIAN
METHOD:PUBLISH
X-WR-CALNAME:Slovenski regionalno razvojni sklad
X-ORIGINAL-URL:https://www.srrs.si
X-WR-CALDESC:Dogodki za Slovenski regionalno razvojni sklad
REFRESH-INTERVAL;VALUE=DURATION:PT1H
X-Robots-Tag:noindex
X-PUBLISHED-TTL:PT1H
BEGIN:VTIMEZONE
TZID:Europe/Ljubljana
BEGIN:DAYLIGHT
TZOFFSETFROM:+0100
TZOFFSETTO:+0200
TZNAME:CEST
DTSTART:20240331T010000
END:DAYLIGHT
BEGIN:STANDARD
TZOFFSETFROM:+0200
TZOFFSETTO:+0100
TZNAME:CET
DTSTART:20241027T010000
END:STANDARD
BEGIN:DAYLIGHT
TZOFFSETFROM:+0100
TZOFFSETTO:+0200
TZNAME:CEST
DTSTART:20250330T010000
END:DAYLIGHT
BEGIN:STANDARD
TZOFFSETFROM:+0200
TZOFFSETTO:+0100
TZNAME:CET
DTSTART:20251026T010000
END:STANDARD
BEGIN:DAYLIGHT
TZOFFSETFROM:+0100
TZOFFSETTO:+0200
TZNAME:CEST
DTSTART:20260329T010000
END:DAYLIGHT
BEGIN:STANDARD
TZOFFSETFROM:+0200
TZOFFSETTO:+0100
TZNAME:CET
DTSTART:20261025T010000
END:STANDARD
END:VTIMEZONE
BEGIN:VEVENT
DTSTART;TZID=Europe/Ljubljana:20250506T110000
DTEND;TZID=Europe/Ljubljana:20250506T120000
DTSTAMP:20260421T125304
CREATED:20250418T070442Z
LAST-MODIFIED:20250423T104827Z
UID:5199-1746529200-1746532800@www.srrs.si
SUMMARY:Nepovratna sredstva za javno turistično infrastrukturo na OPO
DESCRIPTION:Slovenski regionalno razvojni sklad (SRRS) vas vljudno vabi na e-seminar pod naslovom “Nepovratna sredstva za javno turistično infrastrukturo”\, kjer boste izvedeli več o novem finančnem produktu “LOKALNO OPO Turizem”\, na katerega se lahko prijavijo občine\, javni skladi in javne agencije iz obmejnih problemskih območij. \nPredmet tega finančnega produkta je dodelitev nepovratnih sredstev z možnostjo kombinacije razvojnih posojil za sofinanciranje investicij v izgradnjo\, obnovo ali širitev javne turistične infrastrukture\, ki bo prispevala k večji privlačnosti turističnih destinacij in trajnostnemu razvoju turizma na OPO. Sofinancirani bodo projekti\, ki bodo izboljšali dostopnost\, varnost\, funkcionalnost in kakovost javnih turističnih površin in objektov na OPO. \n  \ne-seminar je namenjen: \n\npredstavnikom občine\, javnega sklada\, javnega zavoda\, javne agencije iz OPO območji\nsvetovalcem\, ki pripravljajo vloge na razpis\n\n  \nVsebina e-seminarja: \n\nPredstavitev javnega razpisa za finančni produkt LOKALNO OPO Turizem\nPostopek oddaje vloge\nPostopek črpanja finančnih sredstev\nPostopek poročanja in spremljave\n\n  \nRegistracija na e-seminar je obvezna!
URL:https://www.srrs.si/dogodek/nepovratna-sredstva-za-javno-turisticno-infrastrukturo/
LOCATION:Spletna predstavitev\, Dom sv. Jožef Plečnikova 29\, Celje\, 3000\, Slovenija
CATEGORIES:e-seminar
ATTACH;FMTTYPE=image/png:https://www.srrs.si/wp-content/uploads/2025/04/2025_spletna_stran_splosno_webinar.png
END:VEVENT
END:VCALENDAR