BEGIN:VCALENDAR
VERSION:2.0
PRODID:-//Slovenski regionalno razvojni sklad - ECPv6.15.18//NONSGML v1.0//EN
CALSCALE:GREGORIAN
METHOD:PUBLISH
X-WR-CALNAME:Slovenski regionalno razvojni sklad
X-ORIGINAL-URL:https://www.srrs.si
X-WR-CALDESC:Dogodki za Slovenski regionalno razvojni sklad
REFRESH-INTERVAL;VALUE=DURATION:PT1H
X-Robots-Tag:noindex
X-PUBLISHED-TTL:PT1H
BEGIN:VTIMEZONE
TZID:Europe/Ljubljana
BEGIN:DAYLIGHT
TZOFFSETFROM:+0100
TZOFFSETTO:+0200
TZNAME:CEST
DTSTART:20230326T010000
END:DAYLIGHT
BEGIN:STANDARD
TZOFFSETFROM:+0200
TZOFFSETTO:+0100
TZNAME:CET
DTSTART:20231029T010000
END:STANDARD
BEGIN:DAYLIGHT
TZOFFSETFROM:+0100
TZOFFSETTO:+0200
TZNAME:CEST
DTSTART:20240331T010000
END:DAYLIGHT
BEGIN:STANDARD
TZOFFSETFROM:+0200
TZOFFSETTO:+0100
TZNAME:CET
DTSTART:20241027T010000
END:STANDARD
BEGIN:DAYLIGHT
TZOFFSETFROM:+0100
TZOFFSETTO:+0200
TZNAME:CEST
DTSTART:20250330T010000
END:DAYLIGHT
BEGIN:STANDARD
TZOFFSETFROM:+0200
TZOFFSETTO:+0100
TZNAME:CET
DTSTART:20251026T010000
END:STANDARD
END:VTIMEZONE
BEGIN:VEVENT
DTSTART;TZID=Europe/Ljubljana:20240227T100000
DTEND;TZID=Europe/Ljubljana:20240227T110000
DTSTAMP:20260419T183908
CREATED:20240220T123431Z
LAST-MODIFIED:20240220T123513Z
UID:4082-1709028000-1709031600@www.srrs.si
SUMMARY:AGRO INVEST: Investirajte v zeleno kmetijstvo
DESCRIPTION:Slovenski regionalno razvojni sklad (SRRS) vas vabi\, na webinar “AGRO INVEST: Investirajte v zeleno kmetijstvo”\, kjer boste izvedeli več o finančnem produktu AGRO INVEST. \nWebinar je namenjen: \n\npotencialnim vlagateljem\,\nkmetijskim svetovalcem\nvsem\, ki jih zanima finančni produkt AGRO INVEST.\n\nVsebina dogodka: \n\nPostopek oddaje vloge\nPotrebna dokumentacija\nUpravičeni stroški\nUgodnosti finančnega produkta AGRO INVEST\nVprašanja in odgovori\n\nPrijava na webinar je obvezna!
URL:https://www.srrs.si/dogodek/agro-invest-investirajte-v-zeleno-kmetijstvo/
LOCATION:Spletna predstavitev\, Dom sv. Jožef Plečnikova 29\, Celje\, 3000\, Slovenija
ATTACH;FMTTYPE=image/png:https://www.srrs.si/wp-content/uploads/2023/09/SRRS_novica_2023-1.png
END:VEVENT
END:VCALENDAR